BEGIN:VCALENDAR
VERSION:2.0
PRODID:-//eventon.com NONSGML v1.0//EN
CALSCALE:GREGORIAN
METHOD:PUBLISH
BEGIN:VEVENT
UID:69e735e097d87
DTSTAMP:20260421T083128Z
DTSTART:20220908T130000Z
DTEND:20220908T190000Z
LOCATION:Panera Bread 545 NJ-70 Brick Township\,  Brick Township\,  NJ 08723
SUMMARY:Meet with the District Superintendent
DESCRIPTION:All Official Workers are invited to sign up for a meeting time 
 with the District Superintendent. The locations will change each time to co
 ver all areas of the district. New dates will be added throughout the year
 . Please click &#8220;Learn More&#8221; to sign up. Thank you!\nhttps://www
 .metrocma.org/events/meet-with-the-district-superintendent/
URL:https://www.metrocma.org/events/meet-with-the-district-superintendent/
END:VEVENT
END:VCALENDAR