BEGIN:VCALENDAR
VERSION:2.0
PRODID:-//eventon.com NONSGML v1.0//EN
CALSCALE:GREGORIAN
METHOD:PUBLISH
BEGIN:VEVENT
UID:69e7371d4f9b2
DTSTAMP:20260421T083645Z
DTSTART:20230529
DTEND:20230530
LOCATION:
SUMMARY:C&MA General Council 2023
DESCRIPTION:\nhttps://www.metrocma.org/events/cma-general-council-2/
URL:https://www.metrocma.org/events/cma-general-council-2/
END:VEVENT
END:VCALENDAR