BEGIN:VCALENDAR
VERSION:2.0
PRODID:-//eventon.com NONSGML v1.0//EN
CALSCALE:GREGORIAN
METHOD:PUBLISH
BEGIN:VEVENT
UID:69eb28faeb669
DTSTAMP:20260424T082530Z
DTSTART:20230615T140000Z
DTEND:20230615T180000Z
LOCATION:Long Hill Chapel 525 Shunpike Rd Chatham NJ 07928
SUMMARY:Succession & Transition Planning Roundtable
DESCRIPTION:\nhttps://www.metrocma.org/events/succession-planning-roundtabl
 e/
URL:https://www.metrocma.org/events/succession-planning-roundtable/
END:VEVENT
END:VCALENDAR