BEGIN:VCALENDAR
VERSION:2.0
PRODID:-//eventon.com NONSGML v1.0//EN
CALSCALE:GREGORIAN
METHOD:PUBLISH
BEGIN:VEVENT
UID:69e73590eb2d5
DTSTAMP:20260421T083008Z
DTSTART:20240711T130000Z
DTEND:20240711T190000Z
LOCATION:Metro District Office 2 Denman Ave
SUMMARY:L&O/CC Interviews
DESCRIPTION:L&O/CC Interviews\nhttps://www.metrocma.org/events/lo-cc-interv
 iews-7/
URL:https://www.metrocma.org/events/lo-cc-interviews-7/
END:VEVENT
END:VCALENDAR