BEGIN:VCALENDAR
VERSION:2.0
PRODID:-//eventon.com NONSGML v1.0//EN
CALSCALE:GREGORIAN
METHOD:PUBLISH
BEGIN:VEVENT
UID:69e622bd38ebf
DTSTAMP:20260420T125733Z
DTSTART:20240412T220000Z
DTEND:20240413T190000Z
LOCATION:
SUMMARY:Disciplemaking Discipleship Workshop (Registration Closed)
DESCRIPTION:Space is limited\,  contact Jen Ashby to register: jashby@metr
 ocma.org. \nhttps://www.metrocma.org/events/disciplemaking-discipleship-wo
 rkshop/
URL:https://www.metrocma.org/events/disciplemaking-discipleship-workshop/
END:VEVENT
END:VCALENDAR