BEGIN:VCALENDAR
VERSION:2.0
PRODID:-//eventon.com NONSGML v1.0//EN
CALSCALE:GREGORIAN
METHOD:PUBLISH
BEGIN:VEVENT
UID:69e88bc33df8f
DTSTAMP:20260422T085011Z
DTSTART:20250930T230000Z
DTEND:20251001T010000Z
LOCATION:
SUMMARY:Lamenting: Keeping Space For Prayer & Stories
DESCRIPTION:\nhttps://www.metrocma.org/events/lamenting-keeping-space-for-p
 rayer-stories/
URL:https://www.metrocma.org/events/lamenting-keeping-space-for-prayer-stories/
END:VEVENT
END:VCALENDAR