BEGIN:VCALENDAR
VERSION:2.0
PRODID:-//eventon.com NONSGML v1.0//EN
CALSCALE:GREGORIAN
METHOD:PUBLISH
BEGIN:VEVENT
UID:69e88a840cfd8
DTSTAMP:20260422T084452Z
DTSTART:20260327
DTEND:20260328
LOCATION:
SUMMARY:Metro Youth Retreat
DESCRIPTION:\nhttps://www.metrocma.org/events/metro-youth-retreat-7/
URL:https://www.metrocma.org/events/metro-youth-retreat-7/
END:VEVENT
END:VCALENDAR