BEGIN:VCALENDAR
VERSION:2.0
PRODID:-//eventon.com NONSGML v1.0//EN
CALSCALE:GREGORIAN
METHOD:PUBLISH
BEGIN:VEVENT
UID:69e88a6110d2e
DTSTAMP:20260422T084417Z
DTSTART:20200909T130000Z
DTEND:20200909T200000Z
LOCATION:Metro District Office 2 Denman Ave
SUMMARY:Verbal Exams
DESCRIPTION:Verbal Exams\nhttps://www.metrocma.org/events/verbal-exams/
URL:https://www.metrocma.org/events/verbal-exams/
END:VEVENT
END:VCALENDAR