BEGIN:VCALENDAR
VERSION:2.0
PRODID:-//eventon.com NONSGML v1.0//EN
CALSCALE:GREGORIAN
METHOD:PUBLISH
BEGIN:VEVENT
UID:69e74a086addb
DTSTAMP:20260421T095728Z
DTSTART:20210531T050000Z
DTEND:20210604T030000Z
LOCATION:Opryland Hotel 2800 Opryland Dr\,  Nashville\,  TN 37214
SUMMARY:C&MA General Council
DESCRIPTION:C&MA General Council\nhttps://www.metrocma.org/events/cma-gener
 al-council/
URL:https://www.metrocma.org/events/cma-general-council/
END:VEVENT
END:VCALENDAR