BEGIN:VCALENDAR
VERSION:2.0
PRODID:-//eventon.com NONSGML v1.0//EN
CALSCALE:GREGORIAN
METHOD:PUBLISH
BEGIN:VEVENT
UID:69e88b99b770d
DTSTAMP:20260422T084929Z
DTSTART:20231207T140000Z
DTEND:20231207T210000Z
LOCATION:Metro District Office 2 Denman Ave
SUMMARY:L&O/CC Interviews
DESCRIPTION:L&O/CC Interviews\nhttps://www.metrocma.org/events/lo-cc-accred
 itation-interviews-17/
URL:https://www.metrocma.org/events/lo-cc-accreditation-interviews-17/
END:VEVENT
END:VCALENDAR